Package: doubletrouble Version: 1.8.1 Command: /home/biocbuild/bbs-3.21-bioc/R/bin/R CMD INSTALL doubletrouble StartedAt: 2025-10-15 15:49:57 -0400 (Wed, 15 Oct 2025) EndedAt: 2025-10-15 15:50:39 -0400 (Wed, 15 Oct 2025) EllapsedTime: 41.9 seconds RetCode: 0 Status: OK