Package: doubletrouble Version: 1.8.1 Command: /home/biocbuild/bbs-3.21-bioc/R/bin/R CMD build --keep-empty-dirs --no-resave-data doubletrouble StartedAt: 2025-10-15 17:17:46 -0400 (Wed, 15 Oct 2025) EndedAt: 2025-10-15 17:19:11 -0400 (Wed, 15 Oct 2025) EllapsedTime: 85.1 seconds RetCode: 0 Status: OK PackageFile: doubletrouble_1.8.1.tar.gz PackageFileSize: 4.956 MiB