Package: doubletrouble Version: 1.8.1 Command: /home/biocbuild/R/R/bin/R CMD build --keep-empty-dirs --no-resave-data doubletrouble StartedAt: 2025-09-26 00:51:27 -0000 (Fri, 26 Sep 2025) EndedAt: 2025-09-26 00:53:15 -0000 (Fri, 26 Sep 2025) EllapsedTime: 108.0 seconds RetCode: 0 Status: OK PackageFile: doubletrouble_1.8.1.tar.gz PackageFileSize: 4.916 MiB