Package: doubletrouble Version: 1.8.1 Maintainer: Fabrício Almeida-Silva MaintainerEmail: fabricio_almeidasilva at hotmail.com git_url: https://git.bioconductor.org/packages/doubletrouble git_branch: RELEASE_3_21 git_last_commit: f9e57db git_last_commit_date: 2025-07-23 13:43:53 -0400 (Wed, 23 Jul 2025)