Package: doseR Version: 1.26.0 Command: /home/biocbuild/bbs-3.22-bioc/R/bin/R CMD check --install=check:doseR.install-out.txt --library=/home/biocbuild/bbs-3.22-bioc/R/site-library --timings doseR_1.26.0.tar.gz StartedAt: 2025-11-16 23:20:59 -0500 (Sun, 16 Nov 2025) EndedAt: 2025-11-16 23:23:46 -0500 (Sun, 16 Nov 2025) EllapsedTime: 167.1 seconds RetCode: 0 Status: OK CheckDir: doseR.Rcheck Warnings: 0