Package: doseR Version: 1.24.0 Command: /home/biocbuild/R/R/bin/R CMD build --keep-empty-dirs --no-resave-data doseR StartedAt: 2025-10-14 00:28:42 -0000 (Tue, 14 Oct 2025) EndedAt: 2025-10-14 00:29:28 -0000 (Tue, 14 Oct 2025) EllapsedTime: 46.0 seconds RetCode: 0 Status: OK PackageFile: doseR_1.24.0.tar.gz PackageFileSize: 1.332 MiB