Package: doseR Version: 1.24.0 Command: /Library/Frameworks/R.framework/Resources/bin/R CMD INSTALL doseR StartedAt: 2025-04-21 15:11:49 -0400 (Mon, 21 Apr 2025) EndedAt: 2025-04-21 15:11:57 -0400 (Mon, 21 Apr 2025) EllapsedTime: 8.6 seconds RetCode: 0 Status: OK