Package: dominoSignal Version: 1.4.0 Command: /home/biocbuild/bbs-3.22-bioc/R/bin/R CMD INSTALL dominoSignal StartedAt: 2025-11-11 15:31:28 -0500 (Tue, 11 Nov 2025) EndedAt: 2025-11-11 15:31:53 -0500 (Tue, 11 Nov 2025) EllapsedTime: 24.8 seconds RetCode: 0 Status: OK