Package: dominoSignal Version: 1.2.0 Command: /home/biocbuild/R/R/bin/R CMD INSTALL dominoSignal StartedAt: 2025-10-02 20:41:08 -0000 (Thu, 02 Oct 2025) EndedAt: 2025-10-02 20:41:41 -0000 (Thu, 02 Oct 2025) EllapsedTime: 32.3 seconds RetCode: 0 Status: OK