Package: dominoSignal Version: 1.2.0 Command: /home/biocbuild/R/R/bin/R CMD build --keep-empty-dirs --no-resave-data dominoSignal StartedAt: 2025-10-03 00:31:54 -0000 (Fri, 03 Oct 2025) EndedAt: 2025-10-03 00:34:55 -0000 (Fri, 03 Oct 2025) EllapsedTime: 181.1 seconds RetCode: 0 Status: OK PackageFile: dominoSignal_1.2.0.tar.gz PackageFileSize: 1.025 MiB