Package: dominoSignal Version: 1.2.0 Command: /Library/Frameworks/R.framework/Resources/bin/R CMD INSTALL dominoSignal StartedAt: 2025-10-13 15:49:23 -0400 (Mon, 13 Oct 2025) EndedAt: 2025-10-13 15:49:52 -0400 (Mon, 13 Oct 2025) EllapsedTime: 29.5 seconds RetCode: 0 Status: OK