Package: dominoSignal Version: 1.2.0 Command: rm -rf dominoSignal.buildbin-libdir && mkdir dominoSignal.buildbin-libdir && /Users/biocbuild/BBS/utils/build-universal.sh dominoSignal_1.2.0.tar.gz /Library/Frameworks/R.framework/Resources/bin/R dominoSignal.buildbin-libdir StartedAt: 2025-10-15 18:17:39 -0400 (Wed, 15 Oct 2025) EndedAt: 2025-10-15 18:18:11 -0400 (Wed, 15 Oct 2025) EllapsedTime: 32.6 seconds RetCode: 0 Status: OK PackageFile: dominoSignal_1.2.0.tgz PackageFileSize: 1.485 MiB