Package: dominoSignal Version: 1.4.0 Maintainer: Jacob T Mitchell MaintainerEmail: jmitch81 at jhmi.edu git_url: https://git.bioconductor.org/packages/dominoSignal git_branch: RELEASE_3_22 git_last_commit: 37df5de git_last_commit_date: 2025-10-29 11:31:35 -0400 (Wed, 29 Oct 2025)