Package: dmrseq Version: 1.30.0 Command: /home/biocbuild/bbs-3.22-bioc/R/bin/R CMD build --keep-empty-dirs --no-resave-data --md5 dmrseq StartedAt: 2025-11-11 17:26:40 -0500 (Tue, 11 Nov 2025) EndedAt: 2025-11-11 17:29:42 -0500 (Tue, 11 Nov 2025) EllapsedTime: 182.2 seconds RetCode: 0 Status: OK PackageFile: dmrseq_1.30.0.tar.gz PackageFileSize: 2.822 MiB