Package: dmrseq Version: 1.30.0 Command: /Library/Frameworks/R.framework/Resources/bin/R CMD build --keep-empty-dirs --no-resave-data dmrseq StartedAt: 2025-10-31 16:18:19 -0400 (Fri, 31 Oct 2025) EndedAt: 2025-10-31 16:19:33 -0400 (Fri, 31 Oct 2025) EllapsedTime: 74.8 seconds RetCode: 0 Status: OK PackageFile: dmrseq_1.30.0.tar.gz PackageFileSize: 2.968 MiB