Package: dmrseq Version: 1.30.0 Command: rm -rf dmrseq.buildbin-libdir && mkdir dmrseq.buildbin-libdir && /Users/biocbuild/BBS/utils/build-universal.sh dmrseq_1.30.0.tar.gz /Library/Frameworks/R.framework/Resources/bin/R dmrseq.buildbin-libdir StartedAt: 2025-10-31 23:05:15 -0400 (Fri, 31 Oct 2025) EndedAt: 2025-10-31 23:05:38 -0400 (Fri, 31 Oct 2025) EllapsedTime: 22.5 seconds RetCode: 0 Status: OK PackageFile: dmrseq_1.30.0.tgz PackageFileSize: 4.514 MiB