Package: dmGsea Version: 1.0.1 Command: /home/biocbuild/bbs-3.22-bioc/R/bin/R CMD INSTALL dmGsea StartedAt: 2025-11-14 15:32:40 -0500 (Fri, 14 Nov 2025) EndedAt: 2025-11-14 15:33:06 -0500 (Fri, 14 Nov 2025) EllapsedTime: 25.7 seconds RetCode: 0 Status: OK