Package: divergence Version: 1.26.0 Command: /home/biocbuild/bbs-3.22-bioc/R/bin/R CMD INSTALL divergence StartedAt: 2025-11-11 15:21:26 -0500 (Tue, 11 Nov 2025) EndedAt: 2025-11-11 15:21:46 -0500 (Tue, 11 Nov 2025) EllapsedTime: 19.5 seconds RetCode: 0 Status: OK