Package: divergence Version: 1.26.0 Command: /home/biocbuild/bbs-3.22-bioc/R/bin/R CMD build --keep-empty-dirs --no-resave-data --md5 divergence StartedAt: 2025-11-11 17:25:21 -0500 (Tue, 11 Nov 2025) EndedAt: 2025-11-11 17:26:13 -0500 (Tue, 11 Nov 2025) EllapsedTime: 52.0 seconds RetCode: 0 Status: OK PackageFile: divergence_1.26.0.tar.gz PackageFileSize: 2.074 MiB