Package: divergence Version: 1.26.0 Command: /Library/Frameworks/R.framework/Resources/bin/R CMD INSTALL divergence StartedAt: 2025-11-10 15:11:10 -0500 (Mon, 10 Nov 2025) EndedAt: 2025-11-10 15:11:18 -0500 (Mon, 10 Nov 2025) EllapsedTime: 8.3 seconds RetCode: 0 Status: OK