Package: divergence Version: 1.26.0 Command: /Library/Frameworks/R.framework/Resources/bin/R CMD build --keep-empty-dirs --no-resave-data divergence StartedAt: 2025-11-10 16:13:44 -0500 (Mon, 10 Nov 2025) EndedAt: 2025-11-10 16:14:06 -0500 (Mon, 10 Nov 2025) EllapsedTime: 22.2 seconds RetCode: 0 Status: OK PackageFile: divergence_1.26.0.tar.gz PackageFileSize: 2.073 MiB