Package: divergence Version: 1.26.0 Command: rm -rf divergence.buildbin-libdir && mkdir divergence.buildbin-libdir && /Users/biocbuild/BBS/utils/build-universal.sh divergence_1.26.0.tar.gz /Library/Frameworks/R.framework/Resources/bin/R divergence.buildbin-libdir StartedAt: 2025-11-10 23:18:12 -0500 (Mon, 10 Nov 2025) EndedAt: 2025-11-10 23:18:21 -0500 (Mon, 10 Nov 2025) EllapsedTime: 9.2 seconds RetCode: 0 Status: OK PackageFile: divergence_1.26.0.tgz PackageFileSize: 1.954 MiB