Package: dittoSeq Version: 1.22.0 Command: /home/biocbuild/R/R/bin/R CMD INSTALL dittoSeq StartedAt: 2025-11-17 21:30:16 -0000 (Mon, 17 Nov 2025) EndedAt: 2025-11-17 21:30:53 -0000 (Mon, 17 Nov 2025) EllapsedTime: 37.2 seconds RetCode: 0 Status: OK