Package: dittoSeq Version: 1.22.0 Command: /home/biocbuild/bbs-3.22-bioc/R/bin/R CMD INSTALL dittoSeq StartedAt: 2025-11-11 15:27:40 -0500 (Tue, 11 Nov 2025) EndedAt: 2025-11-11 15:28:08 -0500 (Tue, 11 Nov 2025) EllapsedTime: 27.4 seconds RetCode: 0 Status: OK