Package: dittoSeq Version: 1.20.1 Command: /home/biocbuild/bbs-3.21-bioc/R/bin/R CMD INSTALL dittoSeq StartedAt: 2025-10-12 15:23:05 -0400 (Sun, 12 Oct 2025) EndedAt: 2025-10-12 15:23:32 -0400 (Sun, 12 Oct 2025) EllapsedTime: 26.5 seconds RetCode: 0 Status: OK