Package: dittoSeq Version: 1.20.1 Command: /home/biocbuild/bbs-3.21-bioc/R/bin/R CMD build --keep-empty-dirs --no-resave-data dittoSeq StartedAt: 2025-10-12 17:15:09 -0400 (Sun, 12 Oct 2025) EndedAt: 2025-10-12 17:17:19 -0400 (Sun, 12 Oct 2025) EllapsedTime: 130.1 seconds RetCode: 0 Status: OK PackageFile: dittoSeq_1.20.1.tar.gz PackageFileSize: 2.476 MiB