Package: dittoSeq Version: 1.20.1 Command: /Library/Frameworks/R.framework/Resources/bin/R CMD INSTALL dittoSeq StartedAt: 2025-10-13 16:30:35 -0400 (Mon, 13 Oct 2025) EndedAt: 2025-10-13 16:31:07 -0400 (Mon, 13 Oct 2025) EllapsedTime: 31.5 seconds RetCode: 0 Status: OK