Package: dittoSeq Version: 1.20.1 Command: /Library/Frameworks/R.framework/Resources/bin/R CMD build --keep-empty-dirs --no-resave-data dittoSeq StartedAt: 2025-10-13 23:24:53 -0400 (Mon, 13 Oct 2025) EndedAt: 2025-10-13 23:27:29 -0400 (Mon, 13 Oct 2025) EllapsedTime: 156.8 seconds RetCode: 0 Status: OK PackageFile: dittoSeq_1.20.1.tar.gz PackageFileSize: 3.277 MiB