Package: dittoSeq Version: 1.20.1 Command: rm -rf dittoSeq.buildbin-libdir && mkdir dittoSeq.buildbin-libdir && /Users/biocbuild/BBS/utils/build-universal.sh dittoSeq_1.20.1.tar.gz /Library/Frameworks/R.framework/Resources/bin/R dittoSeq.buildbin-libdir StartedAt: 2025-10-15 18:16:03 -0400 (Wed, 15 Oct 2025) EndedAt: 2025-10-15 18:16:36 -0400 (Wed, 15 Oct 2025) EllapsedTime: 33.0 seconds RetCode: 0 Status: OK PackageFile: dittoSeq_1.20.1.tgz PackageFileSize: 2.801 MiB