Package: dittoSeq Version: 1.20.1 Maintainer: Daniel Bunis MaintainerEmail: daniel.bunis at ucsf.edu git_url: https://git.bioconductor.org/packages/dittoSeq git_branch: RELEASE_3_21 git_last_commit: 38d7a7f git_last_commit_date: 2025-10-07 17:57:56 -0400 (Tue, 07 Oct 2025)