Package: distinct Version: 1.22.0 Command: /Library/Frameworks/R.framework/Resources/bin/R CMD build --keep-empty-dirs --no-resave-data distinct StartedAt: 2025-11-10 16:13:42 -0500 (Mon, 10 Nov 2025) EndedAt: 2025-11-10 16:15:06 -0500 (Mon, 10 Nov 2025) EllapsedTime: 83.9 seconds RetCode: 0 Status: OK PackageFile: distinct_1.22.0.tar.gz PackageFileSize: 1.851 MiB