Package: distinct Version: 1.22.0 Command: rm -rf distinct.buildbin-libdir && mkdir distinct.buildbin-libdir && /Users/biocbuild/BBS/utils/build-universal.sh distinct_1.22.0.tar.gz /Library/Frameworks/R.framework/Resources/bin/R distinct.buildbin-libdir StartedAt: 2025-11-10 23:18:10 -0500 (Mon, 10 Nov 2025) EndedAt: 2025-11-10 23:18:33 -0500 (Mon, 10 Nov 2025) EllapsedTime: 23.4 seconds RetCode: 0 Status: OK PackageFile: distinct_1.22.0.tgz PackageFileSize: 2.003 MiB