Package: discordant Version: 1.32.0 Command: /home/biocbuild/R/R/bin/R CMD build --keep-empty-dirs --no-resave-data discordant StartedAt: 2025-10-14 00:23:44 -0000 (Tue, 14 Oct 2025) EndedAt: 2025-10-14 00:24:38 -0000 (Tue, 14 Oct 2025) EllapsedTime: 54.0 seconds RetCode: 0 Status: OK PackageFile: discordant_1.32.0.tar.gz PackageFileSize: 542.8 KiB