Package: dir.expiry Version: 1.18.0 Command: /home/biocbuild/bbs-3.22-bioc/R/bin/R CMD INSTALL dir.expiry StartedAt: 2025-11-06 15:01:33 -0500 (Thu, 06 Nov 2025) EndedAt: 2025-11-06 15:01:44 -0500 (Thu, 06 Nov 2025) EllapsedTime: 10.7 seconds RetCode: 0 Status: OK