Package: dir.expiry Version: 1.18.0 Command: /home/biocbuild/bbs-3.22-bioc/R/bin/R CMD build --keep-empty-dirs --no-resave-data --md5 dir.expiry StartedAt: 2025-11-06 17:21:11 -0500 (Thu, 06 Nov 2025) EndedAt: 2025-11-06 17:21:16 -0500 (Thu, 06 Nov 2025) EllapsedTime: 5.0 seconds RetCode: 0 Status: OK PackageFile: dir.expiry_1.18.0.tar.gz PackageFileSize: 301.7 KiB