Package: dinoR Version: 1.6.0 Command: /home/biocbuild/R/R/bin/R CMD INSTALL dinoR StartedAt: 2025-11-20 22:11:04 -0000 (Thu, 20 Nov 2025) EndedAt: 2025-11-20 22:11:41 -0000 (Thu, 20 Nov 2025) EllapsedTime: 36.9 seconds RetCode: 0 Status: OK