Package: dinoR Version: 1.6.0 Command: /home/biocbuild/R/R/bin/R CMD build --keep-empty-dirs --no-resave-data dinoR StartedAt: 2025-11-21 01:55:07 -0000 (Fri, 21 Nov 2025) EndedAt: 2025-11-21 01:56:40 -0000 (Fri, 21 Nov 2025) EllapsedTime: 93.1 seconds RetCode: 0 Status: OK PackageFile: dinoR_1.6.0.tar.gz PackageFileSize: 2.899 MiB