Package: dinoR Version: 1.6.0 Command: /home/biocbuild/bbs-3.22-bioc/R/bin/R CMD check --install=check:dinoR.install-out.txt --library=/home/biocbuild/bbs-3.22-bioc/R/site-library --timings dinoR_1.6.0.tar.gz StartedAt: 2025-11-13 23:10:17 -0500 (Thu, 13 Nov 2025) EndedAt: 2025-11-13 23:15:07 -0500 (Thu, 13 Nov 2025) EllapsedTime: 290.2 seconds RetCode: 0 Status: OK CheckDir: dinoR.Rcheck Warnings: 0