Package: dinoR Version: 1.6.0 Command: /Library/Frameworks/R.framework/Resources/bin/R CMD INSTALL dinoR StartedAt: 2025-11-03 15:27:33 -0500 (Mon, 03 Nov 2025) EndedAt: 2025-11-03 15:28:12 -0500 (Mon, 03 Nov 2025) EllapsedTime: 38.9 seconds RetCode: 0 Status: OK