Package: dinoR Version: 1.6.0 Command: /Library/Frameworks/R.framework/Resources/bin/R CMD build --keep-empty-dirs --no-resave-data dinoR StartedAt: 2025-11-02 16:52:45 -0500 (Sun, 02 Nov 2025) EndedAt: 2025-11-02 16:54:09 -0500 (Sun, 02 Nov 2025) EllapsedTime: 84.2 seconds RetCode: 0 Status: OK PackageFile: dinoR_1.6.0.tar.gz PackageFileSize: 3.239 MiB