Package: dinoR Version: 1.6.0 Command: rm -rf dinoR.buildbin-libdir && mkdir dinoR.buildbin-libdir && /Users/biocbuild/BBS/utils/build-universal.sh dinoR_1.6.0.tar.gz /Library/Frameworks/R.framework/Resources/bin/R dinoR.buildbin-libdir StartedAt: 2025-11-03 01:37:57 -0500 (Mon, 03 Nov 2025) EndedAt: 2025-11-03 01:38:36 -0500 (Mon, 03 Nov 2025) EllapsedTime: 39.1 seconds RetCode: 0 Status: OK PackageFile: dinoR_1.6.0.tgz PackageFileSize: 3.086 MiB