Package: dinoR Version: 1.4.0 Command: /home/biocbuild/R/R/bin/R CMD build --keep-empty-dirs --no-resave-data dinoR StartedAt: 2025-09-30 00:29:57 -0000 (Tue, 30 Sep 2025) EndedAt: 2025-09-30 00:31:26 -0000 (Tue, 30 Sep 2025) EllapsedTime: 89.0 seconds RetCode: 0 Status: OK PackageFile: dinoR_1.4.0.tar.gz PackageFileSize: 3.202 MiB