Package: dinoR Version: 1.4.0 Command: rm -rf dinoR.buildbin-libdir && mkdir dinoR.buildbin-libdir && /Users/biocbuild/BBS/utils/build-universal.sh dinoR_1.4.0.tar.gz /Library/Frameworks/R.framework/Resources/bin/R dinoR.buildbin-libdir StartedAt: 2025-04-21 22:33:09 -0400 (Mon, 21 Apr 2025) EndedAt: 2025-04-21 22:33:21 -0400 (Mon, 21 Apr 2025) EllapsedTime: 12.3 seconds RetCode: 0 Status: OK PackageFile: dinoR_1.4.0.tgz PackageFileSize: 3.087 MiB