Package: dinoR Version: 1.4.0 Command: /Library/Frameworks/R.framework/Resources/bin/R CMD INSTALL dinoR StartedAt: 2025-10-13 16:22:57 -0400 (Mon, 13 Oct 2025) EndedAt: 2025-10-13 16:23:31 -0400 (Mon, 13 Oct 2025) EllapsedTime: 33.8 seconds RetCode: 0 Status: OK