Package: dinoR Version: 1.4.0 Command: rm -rf dinoR.buildbin-libdir && mkdir dinoR.buildbin-libdir && /Users/biocbuild/BBS/utils/build-universal.sh dinoR_1.4.0.tar.gz /Library/Frameworks/R.framework/Resources/bin/R dinoR.buildbin-libdir StartedAt: 2025-10-15 18:15:32 -0400 (Wed, 15 Oct 2025) EndedAt: 2025-10-15 18:16:07 -0400 (Wed, 15 Oct 2025) EllapsedTime: 35.9 seconds RetCode: 0 Status: OK PackageFile: dinoR_1.4.0.tgz PackageFileSize: 3.086 MiB