Package: diggit Version: 1.42.0 Command: /home/biocbuild/bbs-3.22-bioc/R/bin/R CMD INSTALL diggit StartedAt: 2025-11-02 15:20:13 -0500 (Sun, 02 Nov 2025) EndedAt: 2025-11-02 15:20:28 -0500 (Sun, 02 Nov 2025) EllapsedTime: 14.8 seconds RetCode: 0 Status: OK