Package: diffuStats Version: 1.30.0 Command: /home/biocbuild/R/R/bin/R CMD INSTALL diffuStats StartedAt: 2025-11-10 21:10:52 -0000 (Mon, 10 Nov 2025) EndedAt: 2025-11-10 21:12:20 -0000 (Mon, 10 Nov 2025) EllapsedTime: 87.4 seconds RetCode: 0 Status: OK