Package: diffuStats Version: 1.28.0 Command: E:\biocbuild\bbs-3.21-bioc\R\bin\R.exe CMD check --no-multiarch --install=check:diffuStats.install-out.txt --library=E:\biocbuild\bbs-3.21-bioc\R\library --no-vignettes --timings diffuStats_1.28.0.tar.gz StartedAt: 2025-08-15 01:34:20 -0400 (Fri, 15 Aug 2025) EndedAt: 2025-08-15 01:36:09 -0400 (Fri, 15 Aug 2025) EllapsedTime: 109.3 seconds RetCode: 0 Status: OK CheckDir: diffuStats.Rcheck Warnings: 0