Package: diffuStats Version: 1.30.0 Command: /home/biocbuild/bbs-3.22-bioc/R/bin/R CMD check --install=check:diffuStats.install-out.txt --library=/home/biocbuild/bbs-3.22-bioc/R/site-library --timings diffuStats_1.30.0.tar.gz StartedAt: 2025-11-11 23:08:48 -0500 (Tue, 11 Nov 2025) EndedAt: 2025-11-11 23:10:21 -0500 (Tue, 11 Nov 2025) EllapsedTime: 93.0 seconds RetCode: 0 Status: OK CheckDir: diffuStats.Rcheck Warnings: 0