Package: diffuStats Version: 1.30.0 Command: /home/biocbuild/bbs-3.22-bioc/R/bin/R CMD build --keep-empty-dirs --no-resave-data --md5 diffuStats StartedAt: 2025-11-13 17:22:31 -0500 (Thu, 13 Nov 2025) EndedAt: 2025-11-13 17:23:20 -0500 (Thu, 13 Nov 2025) EllapsedTime: 49.0 seconds RetCode: 0 Status: OK PackageFile: diffuStats_1.30.0.tar.gz PackageFileSize: 1.317 MiB